BEGIN:VCALENDAR
PRODID:-//eluceo/ical//2.0/EN
VERSION:2.0
CALSCALE:GREGORIAN
BEGIN:VEVENT
UID:7631e2311b829122c21236374c444f25
DTSTAMP:20260423T124037Z
SUMMARY:maggy-rouff - Date de vente : 30/01/2014
DESCRIPTION:Nom du lots : MAGGY ROUFF\n\nPelisse en tweed
DTSTART;VALUE=DATE:20140130
END:VEVENT
END:VCALENDAR
