BEGIN:VCALENDAR
PRODID:-//eluceo/ical//2.0/EN
VERSION:2.0
CALSCALE:GREGORIAN
BEGIN:VEVENT
UID:82352edbfa9b5c3b03154f06304d92df
DTSTAMP:20260423T123910Z
SUMMARY:louis-vuitton - Date de vente : 30/01/2014
DESCRIPTION:Nom du lots : LOUIS VUITTON\n\n"Sac Tilsit" en cuir épi noir k
 ouril\, surpiqure noire\, anse ajustable\, fermoir doré gravé du nom de 
 la marque\, poche interne plaqué 18\,5 X 27 cm env. Très bon état
DTSTART;VALUE=DATE:20140130
END:VEVENT
END:VCALENDAR
