BEGIN:VCALENDAR
PRODID:-//eluceo/ical//2.0/EN
VERSION:2.0
CALSCALE:GREGORIAN
BEGIN:VEVENT
UID:17df57ef210cfd4e37d3ac19507797f5
DTSTAMP:20260423T123910Z
SUMMARY:christian-dior - Date de vente : 30/01/2014
DESCRIPTION:Nom du lots : CHRISTIAN DIOR\n\nCarré de soie "imprimé monogr
 amme" rose poudré Tâché
DTSTART;VALUE=DATE:20140130
END:VEVENT
END:VCALENDAR
