BEGIN:VCALENDAR
PRODID:-//eluceo/ical//2.0/EN
VERSION:2.0
CALSCALE:GREGORIAN
BEGIN:VEVENT
UID:4eff799e79e0f6091e06adb0d7ba0411
DTSTAMP:20260423T123823Z
SUMMARY:celine-paris - Date de vente : 30/01/2014
DESCRIPTION:Nom du lots : CELINE PARIS\n\nFoulard "United States of America
 " Tâches
DTSTART;VALUE=DATE:20140130
END:VEVENT
END:VCALENDAR
