BEGIN:VCALENDAR
PRODID:-//eluceo/ical//2.0/EN
VERSION:2.0
CALSCALE:GREGORIAN
BEGIN:VEVENT
UID:c946c3b403fafc067d8e7b55f7c0cc6d
DTSTAMP:20260423T140300Z
SUMMARY:valentino - Date de vente : 30/01/2014
DESCRIPTION:Nom du lots : VALENTINO\n\nPull gris et blanc et un gilet Taill
 e 40
DTSTART;VALUE=DATE:20140130
END:VEVENT
END:VCALENDAR
