BEGIN:VCALENDAR
PRODID:-//eluceo/ical//2.0/EN
VERSION:2.0
CALSCALE:GREGORIAN
BEGIN:VEVENT
UID:e8d1bcafc807e9301f9f95978160098f
DTSTAMP:20260423T140351Z
SUMMARY:diane-von-furstenberg - Date de vente : 30/01/2014
DESCRIPTION:Nom du lots : DIANE VON FURSTENBERG\n\nRobe courte en coton et 
 soie\, intérieur doublée en soie\, à col rond plissé et nouée sur le 
 devant. Imprimé à fond bleu et pois rose. Fond blanc et pois noirs. Poch
 es latérales au niveau de la jupe. Taille S-M Tâches minimes
DTSTART;VALUE=DATE:20140130
END:VEVENT
END:VCALENDAR
