BEGIN:VCALENDAR
PRODID:-//eluceo/ical//2.0/EN
VERSION:2.0
CALSCALE:GREGORIAN
BEGIN:VEVENT
UID:d273ec20c62cc8baeefae26a78d1541d
DTSTAMP:20260423T142757Z
SUMMARY:hermes - Date de vente : 30/01/2014
DESCRIPTION:Nom du lots : HERMES\n\nRobe d’été en coton\, lin et soie\,
  à maille rayée marine et blanc\, boutonnée sur un côté. Poche latér
 ale. Taille S-M
DTSTART;VALUE=DATE:20140130
END:VEVENT
END:VCALENDAR
