BEGIN:VCALENDAR
PRODID:-//eluceo/ical//2.0/EN
VERSION:2.0
CALSCALE:GREGORIAN
BEGIN:VEVENT
UID:489ef0893c0896b02b2f792497da7beb
DTSTAMP:20260423T070614Z
SUMMARY:cartier - Date de vente : 04/12/2013
DESCRIPTION:Nom du lots : CARTIER\n\nSac de golf en cuir bordeaux
DTSTART;VALUE=DATE:20131204
END:VEVENT
END:VCALENDAR
