BEGIN:VCALENDAR
PRODID:-//eluceo/ical//2.0/EN
VERSION:2.0
CALSCALE:GREGORIAN
BEGIN:VEVENT
UID:78af5e7e023f422c20ac9900b8c7a825
DTSTAMP:20260423T071026Z
SUMMARY:collection-du-createur-christian-chodron - Date de vente : 04/12/20
 13
DESCRIPTION:Nom du lots : COLLECTION DU CREATEUR CHRISTIAN CHODRON...\n\nCO
 LLECTION DU CREATEUR CHRISTIAN CHODRON DE COURCEL Croquis sur canson Crayo
 n de couleur Signé 32x24 cm
DTSTART;VALUE=DATE:20131204
END:VEVENT
END:VCALENDAR
