BEGIN:VCALENDAR
PRODID:-//eluceo/ical//2.0/EN
VERSION:2.0
CALSCALE:GREGORIAN
BEGIN:VEVENT
UID:1c99ceab9709a48bf101a89eae065b81
DTSTAMP:20260423T070817Z
SUMMARY:christian-lacroix - Date de vente : 04/12/2013
DESCRIPTION:Nom du lots : Christian LACROIX\n\nLong manteau en feutre noir\
 , doublure imprimée Taille 40 EN BON ETAT
DTSTART;VALUE=DATE:20131204
END:VEVENT
END:VCALENDAR
