BEGIN:VCALENDAR
PRODID:-//eluceo/ical//2.0/EN
VERSION:2.0
CALSCALE:GREGORIAN
BEGIN:VEVENT
UID:9de1c5481ac5098af40387cdf99ea6e5
DTSTAMP:20260423T070801Z
SUMMARY:charles-jourdan - Date de vente : 04/12/2013
DESCRIPTION:Nom du lots : Charles JOURDAN\n\nMules en cuir noir Taille 7\,5
  (état d’usage)
DTSTART;VALUE=DATE:20131204
END:VEVENT
END:VCALENDAR
