BEGIN:VCALENDAR
PRODID:-//eluceo/ical//2.0/EN
VERSION:2.0
CALSCALE:GREGORIAN
BEGIN:VEVENT
UID:e15f7582568b068daa75b19c67e50152
DTSTAMP:20260423T071621Z
SUMMARY:nina-ricci - Date de vente : 04/12/2013
DESCRIPTION:Nom du lots : Nina RICCI\n\nEnsemble jupe chemisier en soie\, r
 ayée blanc et bleu marine Taille 38/40
DTSTART;VALUE=DATE:20131204
END:VEVENT
END:VCALENDAR
