BEGIN:VCALENDAR
PRODID:-//eluceo/ical//2.0/EN
VERSION:2.0
CALSCALE:GREGORIAN
BEGIN:VEVENT
UID:069d952821ae96b95564a27cefbb0eb4
DTSTAMP:20260423T070223Z
SUMMARY:gres - Date de vente : 04/12/2013
DESCRIPTION:Nom du lots : GRES\n\nJupe longueur genou marine
DTSTART;VALUE=DATE:20131204
END:VEVENT
END:VCALENDAR
