BEGIN:VCALENDAR
PRODID:-//eluceo/ical//2.0/EN
VERSION:2.0
CALSCALE:GREGORIAN
BEGIN:VEVENT
UID:f8f943a28b10981c2b200979351b532b
DTSTAMP:20260423T070503Z
SUMMARY:leonard - Date de vente : 04/12/2013
DESCRIPTION:Nom du lots : LEONARD\n\nRobe imprimée fleurie en jersey de so
 ie\, épaulettes Avec sa ceinture Taille 1 BON ETAT
DTSTART;VALUE=DATE:20131204
END:VEVENT
END:VCALENDAR
