BEGIN:VCALENDAR
PRODID:-//eluceo/ical//2.0/EN
VERSION:2.0
CALSCALE:GREGORIAN
BEGIN:VEVENT
UID:9a328693f91807f1549f57ee3fb3321c
DTSTAMP:20260423T070502Z
SUMMARY:hermes - Date de vente : 04/12/2013
DESCRIPTION:Nom du lots : HERMES\n\nSac "Herbag" en toile noire et veau lis
 se noir\, garniture en métal argenté palladié. On y joint un sacinterch
 angeable en toile militaire beige. 24 x 30 x 12 cm Bon état général (l
 égères usures).
DTSTART;VALUE=DATE:20131204
END:VEVENT
END:VCALENDAR
