BEGIN:VCALENDAR
PRODID:-//eluceo/ical//2.0/EN
VERSION:2.0
CALSCALE:GREGORIAN
BEGIN:VEVENT
UID:f2928c3688528619ca76e09f28a42f57
DTSTAMP:20260423T071637Z
SUMMARY:chanel - Date de vente : 04/12/2013
DESCRIPTION:Nom du lots : CHANEL\n\nSac classique en cuir noir matelassé\,
  chaînette en métal doré Avec son dustbag\, dans sa boîte d’origine
DTSTART;VALUE=DATE:20131204
END:VEVENT
END:VCALENDAR
