BEGIN:VCALENDAR
PRODID:-//eluceo/ical//2.0/EN
VERSION:2.0
CALSCALE:GREGORIAN
BEGIN:VEVENT
UID:5a1791dab74071a218f21522f74afe7b
DTSTAMP:20260423T070802Z
SUMMARY:christian-dior - Date de vente : 04/12/2013
DESCRIPTION:Nom du lots : Christian DIOR\n\nSac à main "Selle" en cuir bei
 ge irisé\, anse en métal articulé Dans son dustbag 26x35x7 cm (tâches)
DTSTART;VALUE=DATE:20131204
END:VEVENT
END:VCALENDAR
