BEGIN:VCALENDAR
PRODID:-//eluceo/ical//2.0/EN
VERSION:2.0
CALSCALE:GREGORIAN
BEGIN:VEVENT
UID:7c87476789a84dde7a6ba3df66217804
DTSTAMP:20260423T070614Z
SUMMARY:louis-vuitton - Date de vente : 04/12/2013
DESCRIPTION:Nom du lots : Louis VUITTON\n\nEscarpins en cuir noir semelle d
 orée Taille 37 Dans sa boîte EN BON ETAT
DTSTART;VALUE=DATE:20131204
END:VEVENT
END:VCALENDAR
