BEGIN:VCALENDAR
PRODID:-//eluceo/ical//2.0/EN
VERSION:2.0
CALSCALE:GREGORIAN
BEGIN:VEVENT
UID:1c1b5fe536d8be24367b3ba7f1b9d58f
DTSTAMP:20260423T070828Z
SUMMARY:yves-saint-laurent - Date de vente : 04/12/2013
DESCRIPTION:Nom du lots : Yves SAINT LAURENT\n\nFine ceinture en cuir blanc
  et rouge Longueur : 77 cm Signée
DTSTART;VALUE=DATE:20131204
END:VEVENT
END:VCALENDAR
