BEGIN:VCALENDAR
PRODID:-//eluceo/ical//2.0/EN
VERSION:2.0
CALSCALE:GREGORIAN
BEGIN:VEVENT
UID:f94d0cfe943df5ae8f390075301e4c36
DTSTAMP:20260423T143137Z
SUMMARY:coquelicots-et-pissenlits-vers-1890-1900 - Date de vente : 12/02/20
 14
DESCRIPTION:Nom du lots : Coquelicots et pissenlits\, vers 1890-1900...\n\n
 Coquelicots et pissenlits\, vers 1890-1900 Éventail plié\, feuille en so
 ie peinte à la gouache. Signé à droite «Gabrielle». Monture en bois g
 ravé de fleurs et de papillons\, doré et argenté. H.t. 32\,3 cm / H.f. 
 19 cm (rivure manquante)
DTSTART;VALUE=DATE:20140212
END:VEVENT
END:VCALENDAR
