BEGIN:VCALENDAR
PRODID:-//eluceo/ical//2.0/EN
VERSION:2.0
CALSCALE:GREGORIAN
BEGIN:VEVENT
UID:58dcdb212a05e6bed2a2da2aa495f76e
DTSTAMP:20260423T143054Z
SUMMARY:taverne-flamande-vers-1840-ventail-de-type - Date de vente : 12/02/
 2014
DESCRIPTION:Nom du lots : Taverne flamande\, vers 1840 Éventail de type...
 \n\nTaverne flamande\, vers 1840 Éventail de type brisé en os peint d’
 une scène d’intérieur dans le goût de Teniers. Une femme et un homme 
 attablés échangent quelques mots en compagnie d’un musicien. Au revers
 \, paysage de bord de lac\, un clocher en arrière-plan. La tête appliqu
 ée d’écaille brune. H.t. 19 cm
DTSTART;VALUE=DATE:20140212
END:VEVENT
END:VCALENDAR
