BEGIN:VCALENDAR
PRODID:-//eluceo/ical//2.0/EN
VERSION:2.0
CALSCALE:GREGORIAN
BEGIN:VEVENT
UID:d045784418d965847aaf90ea2d7ed393
DTSTAMP:20260422T233105Z
SUMMARY:christian-dior - Date de vente : 10/11/2013
DESCRIPTION:Nom du lots : Christian Dior\n\nSac en cuir vernis blanc matela
 ssé sur une seule face\, fermeture éclair\, intérieur en tissus monogra
 mmé\, anse épaulée rehaussée de breloques abécédaires en métal chro
 mé doré. 19 x 26 x 6.5 cm env. Taché en l’état
DTSTART;VALUE=DATE:20131110
END:VEVENT
END:VCALENDAR
