BEGIN:VCALENDAR
PRODID:-//eluceo/ical//2.0/EN
VERSION:2.0
CALSCALE:GREGORIAN
BEGIN:VEVENT
UID:0251d835ffdd241cd75c4fcc6e13ed6e
DTSTAMP:20260422T232958Z
SUMMARY:louis-vuitton - Date de vente : 10/11/2013
DESCRIPTION:Nom du lots : Louis Vuitton\n\nSac "Tilsit" en cuir épi noir k
 ouril\, surpiqure noire\, anse ajustable\, fermoir doré gravé du nom de 
 la marque\, poche interne plaqué. 18\,5 x 27 cm env. Très bon état
DTSTART;VALUE=DATE:20131110
END:VEVENT
END:VCALENDAR
