BEGIN:VCALENDAR
PRODID:-//eluceo/ical//2.0/EN
VERSION:2.0
CALSCALE:GREGORIAN
BEGIN:VEVENT
UID:7df5e3f773914c0c17070895d94e69b0
DTSTAMP:20260422T233136Z
SUMMARY:must-de-cartier - Date de vente : 10/11/2013
DESCRIPTION:Nom du lots : MUST DE CARTIER\n\nCeinture en crocodile bordeaux
 \, ceinturon doré. Taille 99 cm env. Très bon état
DTSTART;VALUE=DATE:20131110
END:VEVENT
END:VCALENDAR
