BEGIN:VCALENDAR
PRODID:-//eluceo/ical//2.0/EN
VERSION:2.0
CALSCALE:GREGORIAN
BEGIN:VEVENT
UID:ab1e7376155fcc450bbfea64274aa229
DTSTAMP:20260422T233135Z
SUMMARY:yves-saint-laurent - Date de vente : 10/11/2013
DESCRIPTION:Nom du lots : Yves Saint-Laurent\n\nPochette du soir trapézoid
 ale en tissus strié\, intérieur monogrammé avec poche plaquée. Orné d
 ’un bijou triangulaire doré. 17 x 25 cm env
DTSTART;VALUE=DATE:20131110
END:VEVENT
END:VCALENDAR
