BEGIN:VCALENDAR
PRODID:-//eluceo/ical//2.0/EN
VERSION:2.0
CALSCALE:GREGORIAN
BEGIN:VEVENT
UID:7436c37001e1c19b5ef90c72d65255da
DTSTAMP:20260422T232600Z
SUMMARY:hermes - Date de vente : 10/11/2013
DESCRIPTION:Nom du lots : HERMES\n\nSac "Pullmann" en crocodile noir\, int
 érieur compartimenté en trois parties\, poche plaquée zippée. En parti
 e centrale fermoir en métal doré\, poche plaquée\, et une double poche 
 plaquée (accident coulure de verni)\, clef. 22 x 32 cm env. En l’état
DTSTART;VALUE=DATE:20131110
END:VEVENT
END:VCALENDAR
