BEGIN:VCALENDAR
PRODID:-//eluceo/ical//2.0/EN
VERSION:2.0
CALSCALE:GREGORIAN
BEGIN:VEVENT
UID:d0fb4c2afcdb301a8befc923179451be
DTSTAMP:20260422T142105Z
SUMMARY:pieced-afghan-patchwork-quilt-c-1950 - Date de vente : 01/11/2013
DESCRIPTION:Nom du lots : PIECED AFGHAN PATCHWORK QUILT\, c. 1950.\n\nBlack
  cotton center field surrounded by borders of blocks and triangles on whit
 e ground and floral printed Russian cottons. 70 x 67. Excellent.
DTSTART;VALUE=DATE:20131101
END:VEVENT
END:VCALENDAR
