BEGIN:VCALENDAR
PRODID:-//eluceo/ical//2.0/EN
VERSION:2.0
CALSCALE:GREGORIAN
BEGIN:VEVENT
UID:8f73e92dfd507a748b7c84d9617c77c6
DTSTAMP:20260423T180928Z
SUMMARY:chanel-attribu - Date de vente : 10/03/2014
DESCRIPTION:Nom du lots : CHANEL (ATTRIBUÉ À)\n\nSautoir composé de perl
 es blanches entrecoupées de perles de verre de couleur rubis
DTSTART;VALUE=DATE:20140310
END:VEVENT
END:VCALENDAR
