BEGIN:VCALENDAR
PRODID:-//eluceo/ical//2.0/EN
VERSION:2.0
CALSCALE:GREGORIAN
BEGIN:VEVENT
UID:d42c2c852a9664b82daf750207889a3c
DTSTAMP:20260423T180931Z
SUMMARY:chanel-circa-1987 - Date de vente : 10/03/2014
DESCRIPTION:Nom du lots : CHANEL CIRCA 1987\n\nN°F.D 88512 Montre "Premiè
 re" en or jaune\, cadran noir\, verre en cristal biseauté reprenant la fo
 rme du bouchon du flacon N°5\, mouvement quartz\, bracelet en crocodile n
 oir. Poids brut: 35\,1 grs environ. Longueur: 17\,5cm
DTSTART;VALUE=DATE:20140310
END:VEVENT
END:VCALENDAR
