BEGIN:VCALENDAR
PRODID:-//eluceo/ical//2.0/EN
VERSION:2.0
CALSCALE:GREGORIAN
BEGIN:VEVENT
UID:8e7304cb473cec81ebf8fd9fcc026feb
DTSTAMP:20260423T182306Z
SUMMARY:chanel - Date de vente : 10/03/2014
DESCRIPTION:Nom du lots : CHANEL\n\nSac 33 cm en cuir agneau matelassé iri
 sé acier\, fermeture pression aimantée\, double demi-anse bandoulières 
 avec chaînes en acier vieilli dont une retenant le sigle de la Maison\, p
 attes d’épaule. Bon état (salissures\, légères usures)
DTSTART;VALUE=DATE:20140310
END:VEVENT
END:VCALENDAR
