BEGIN:VCALENDAR
PRODID:-//eluceo/ical//2.0/EN
VERSION:2.0
CALSCALE:GREGORIAN
BEGIN:VEVENT
UID:037fc490f1690b315eb214076cc934b5
DTSTAMP:20260425T105411Z
SUMMARY:coco-chanel - Date de vente : 10/03/2014
DESCRIPTION:Nom du lots : COCO CHANEL\n\nSac "Timeless" 25cm en coton matel
 assé rose imprimé du sigle et de "Coco" multicolore\, fermoir en métal 
 doré siglé sur rabat\, anse chaîne réglable entrelacée de cuir en coo
 rdonné\, poche extérieure. Bon état (salissures)
DTSTART;VALUE=DATE:20140310
END:VEVENT
END:VCALENDAR
