BEGIN:VCALENDAR
PRODID:-//eluceo/ical//2.0/EN
VERSION:2.0
CALSCALE:GREGORIAN
BEGIN:VEVENT
UID:967c207b2e58e5ca06bd831867727612
DTSTAMP:20260423T182434Z
SUMMARY:chanel-circa-2004 - Date de vente : 10/03/2014
DESCRIPTION:Nom du lots : CHANEL CIRCA 2004\n\nSautoir composé de trois ch
 aînes en métal argenté ornées de perles blanches de tailles différent
 es\, certaines à l’effigie de Mademoiselle émaillée assise\, et rehau
 ssées du sigle émaillé violet. Signé\, daté
DTSTART;VALUE=DATE:20140310
END:VEVENT
END:VCALENDAR
