BEGIN:VCALENDAR
PRODID:-//eluceo/ical//2.0/EN
VERSION:2.0
CALSCALE:GREGORIAN
BEGIN:VEVENT
UID:6dd8b755caf9701bb952590661f22816
DTSTAMP:20260423T091401Z
SUMMARY:ogniben-zendman-roma-circa-1975 - Date de vente : 24/01/2014
DESCRIPTION:Nom du lots : OGNIBEN ZENDMAN Roma\, circa 1975\n\nTailleur en 
 lainage à chevrons gris et vert sapin\, veste à décolleté en pointe\, 
 sans col\, parementure bord à bord à crochets métalliques\, deux poches
  plaquées à rabat\, manches longues\, jupe légèrement évasé. Se port
 e avec un haut en velours tâcheté vert\, décolleté en V\, sans manches
  Griffe noire\, graphisme blanc
DTSTART;VALUE=DATE:20140124
END:VEVENT
END:VCALENDAR
