BEGIN:VCALENDAR
PRODID:-//eluceo/ical//2.0/EN
VERSION:2.0
CALSCALE:GREGORIAN
BEGIN:VEVENT
UID:d2e75051dec67cc6b546286c235a5114
DTSTAMP:20260423T092157Z
SUMMARY:emanuel-ungaro-couture-n-585531380-circa-1980 - Date de vente : 24/
 01/2014
DESCRIPTION:Nom du lots : Emanuel UNGARO Couture n° 5855.31.3.80 circa 198
 0\n\nTailleur en Prince de Galles noir et blanc gansé de soie noir\, demi
  col châle\, deux poches en biais à rabat arrondis\, boutnnage à un bou
 ton\, manches longues\, jupe droite
DTSTART;VALUE=DATE:20140124
END:VEVENT
END:VCALENDAR
