BEGIN:VCALENDAR
PRODID:-//eluceo/ical//2.0/EN
VERSION:2.0
CALSCALE:GREGORIAN
BEGIN:VEVENT
UID:6afbe95d1fe23b7737a8e9f08e523135
DTSTAMP:20260423T091758Z
SUMMARY:emanuel-ungaro-couture-n575535-circa-1978-1980 - Date de vente : 24
 /01/2014
DESCRIPTION:Nom du lots : Emanuel UNGARO Couture\, n°57.55.35\, circa 1978
  / 1980\n\nTailleur en poil de chameau bordeaux\, veste cintrée à petit 
 col rond partiellement recouvert de velours\, simple boutonnage brides\, m
 anches longues à revers\; jupe large à lès. (manque la ceinture). Griff
 es blanches\, graphisme noir
DTSTART;VALUE=DATE:20140124
END:VEVENT
END:VCALENDAR
