BEGIN:VCALENDAR
PRODID:-//eluceo/ical//2.0/EN
VERSION:2.0
CALSCALE:GREGORIAN
BEGIN:VEVENT
UID:e8f416fdc2f7fbaddec95f1b8dd403d1
DTSTAMP:20260423T091202Z
SUMMARY:dior-boutique-circa-1970 - Date de vente : 24/01/2014
DESCRIPTION:Nom du lots : DIOR Boutique\, circa 1970\n\nTailleur en lainage
  kaki à impression abstraite\, veste courte\, col en pointe\, deux poches
  plaquées\, simple boutonnage\, manches longues\, jupe évasée mi- longu
 e
DTSTART;VALUE=DATE:20140124
END:VEVENT
END:VCALENDAR
