BEGIN:VCALENDAR
PRODID:-//eluceo/ical//2.0/EN
VERSION:2.0
CALSCALE:GREGORIAN
BEGIN:VEVENT
UID:436da3443826d16bb1af9a094369fbca
DTSTAMP:20260423T090812Z
SUMMARY:john-galliano - Date de vente : 24/01/2014
DESCRIPTION:Nom du lots : John GALLIANO\n\nTailleur en lainage écossais à
  dominante automnale\, veste courte à col cranté deux poches poitrine à
  rabats\, double boutonnage\, manches longues\, jupe droite à longueur as
 ymétrique (petites reprises sur la jupe)
DTSTART;VALUE=DATE:20140124
END:VEVENT
END:VCALENDAR
