BEGIN:VCALENDAR
PRODID:-//eluceo/ical//2.0/EN
VERSION:2.0
CALSCALE:GREGORIAN
BEGIN:VEVENT
UID:4ab608ef07ce92381c226737b1544c05
DTSTAMP:20260423T091145Z
SUMMARY:thierry-mugler-circa-1990 - Date de vente : 24/01/2014
DESCRIPTION:Nom du lots : Thierry MUGLER\, circa 1990\n\nRobe en soie impri
 mée à motif de rondelles de citron\, col châle cranté sur échancrure\
 , taille soulignée d’une ceinture drapée\, jupe droite agrémentée de
  deux poches\, boutonnage pression. Griffe bleue\, graphisme argent
DTSTART;VALUE=DATE:20140124
END:VEVENT
END:VCALENDAR
