BEGIN:VCALENDAR
PRODID:-//eluceo/ical//2.0/EN
VERSION:2.0
CALSCALE:GREGORIAN
BEGIN:VEVENT
UID:71a2cd44a3f27b491a8e09b7d316aa86
DTSTAMP:20260423T091318Z
SUMMARY:yves-saint-laurent-rive-gauche - Date de vente : 24/01/2014
DESCRIPTION:Nom du lots : Yves SAINT LAURENT rive gauche\n\nEnsemble en cot
 on damassé imprimé de boutons de roses\, haut à effet de basque à déc
 olleté coeur\, simple boutonnage\, manches longues\, jupe droite
DTSTART;VALUE=DATE:20140124
END:VEVENT
END:VCALENDAR
