BEGIN:VCALENDAR
PRODID:-//eluceo/ical//2.0/EN
VERSION:2.0
CALSCALE:GREGORIAN
BEGIN:VEVENT
UID:8294b7b197d5b8263a6f9c3a25940522
DTSTAMP:20260423T092551Z
SUMMARY:hermes-paris - Date de vente : 24/01/2014
DESCRIPTION:Nom du lots : HERMES Paris\n\nLot comprenant une veste en lin 
 écru gansé de cuir blanc\, sans col\, parementures bord à bord\, manche
 s longues\, et deux pantalons droits lun en lin\, lautre en fil à fil
  blanc
DTSTART;VALUE=DATE:20140124
END:VEVENT
END:VCALENDAR
