BEGIN:VCALENDAR
PRODID:-//eluceo/ical//2.0/EN
VERSION:2.0
CALSCALE:GREGORIAN
BEGIN:VEVENT
UID:06e064c581a17eaffec33f99200d0c8d
DTSTAMP:20260423T091456Z
SUMMARY:chloe-par-karl-largarfeld-circa-1975 - Date de vente : 24/01/2014
DESCRIPTION:Nom du lots : CHLOE par Karl Largarfeld\, circa 1975\n\nAmple m
 anteau de forme évasée en lainage kaki\, col en pointe\, manches longues
 \, simple boutonnage sous patte\, deux poches dans les coutures. Griffe bl
 anche\, graphisme noir
DTSTART;VALUE=DATE:20140124
END:VEVENT
END:VCALENDAR
