BEGIN:VCALENDAR
PRODID:-//eluceo/ical//2.0/EN
VERSION:2.0
CALSCALE:GREGORIAN
BEGIN:VEVENT
UID:c3a83322598003047c8127a6c440729f
DTSTAMP:20260423T092418Z
SUMMARY:valentino-miss-v - Date de vente : 24/01/2014
DESCRIPTION:Nom du lots : VALENTINO Miss V\n\nRobe droite en lainage noire\
 , encolure bateau rehaussée de perles tubulaires noire\, sans manches\, b
 as de la jupe souligné de deux bandes de guipures
DTSTART;VALUE=DATE:20140124
END:VEVENT
END:VCALENDAR
