BEGIN:VCALENDAR
PRODID:-//eluceo/ical//2.0/EN
VERSION:2.0
CALSCALE:GREGORIAN
BEGIN:VEVENT
UID:702b7ab4905c12749054f40939030344
DTSTAMP:20260423T105124Z
SUMMARY:emanuel-ungaro-couture-circa-1980 - Date de vente : 24/01/2014
DESCRIPTION:Nom du lots : Emanuel UNGARO Couture circa 1980\n\nTailleur en 
 toile de laine kaki\, encolure ronde\, quatre poches plaqués\, simple bou
 tonnage\, manches longues\, martingale dos\, jupe portefeuille drapée
DTSTART;VALUE=DATE:20140124
END:VEVENT
END:VCALENDAR
