BEGIN:VCALENDAR
PRODID:-//eluceo/ical//2.0/EN
VERSION:2.0
CALSCALE:GREGORIAN
BEGIN:VEVENT
UID:74aad71498291d390e2ea0115afb95a5
DTSTAMP:20260423T105153Z
SUMMARY:emanuel-ungaro-patron-papier-circa-1980 - Date de vente : 24/01/201
 4
DESCRIPTION:Nom du lots : Emanuel UNGARO\, patron papier\, circa 1980\n\nTa
 illeur en soie à effet damassé rose pâle\, entièrement gansé de soie 
 unie à la couleur\, veste à col tailleur arrondi\, une poche poitrine et
  deux poches passepoilée\, manches longues\, jupe évasée. Griffe blanch
 e\, graphisme noir (manque un bouton)
DTSTART;VALUE=DATE:20140124
END:VEVENT
END:VCALENDAR
