BEGIN:VCALENDAR
PRODID:-//eluceo/ical//2.0/EN
VERSION:2.0
CALSCALE:GREGORIAN
BEGIN:VEVENT
UID:ac0e367c9c100296f8822ce2f1b15127
DTSTAMP:20260423T104747Z
SUMMARY:karl-lagerfeld - Date de vente : 24/01/2014
DESCRIPTION:Nom du lots : Karl LAGERFELD\n\nRobe en soie bicolore écrue et
  marine\, décolleté asymétrique à une épaule\, jupe fendue\, nous y j
 oignons une robe à bretelle et un manteau en maille bicolore marine et bl
 anc
DTSTART;VALUE=DATE:20140124
END:VEVENT
END:VCALENDAR
