BEGIN:VCALENDAR
PRODID:-//eluceo/ical//2.0/EN
VERSION:2.0
CALSCALE:GREGORIAN
BEGIN:VEVENT
UID:a1fbea24afc184d5f42c30854a5a1c51
DTSTAMP:20260423T105101Z
SUMMARY:stop-senes-rome-circa-1966-1968 - Date de vente : 24/01/2014
DESCRIPTION:Nom du lots : STOP SENES Rome\, circa 1966 / 1968\n\nManteau de
  cocktail en broché vert et or à effet matelassé de rosaces dans des lo
 sanges\, encolure ronde\, simple boutonnage asymétrique\, manches longues
 . Griffe blanche\, graphisme noir
DTSTART;VALUE=DATE:20140124
END:VEVENT
END:VCALENDAR
