BEGIN:VCALENDAR
PRODID:-//eluceo/ical//2.0/EN
VERSION:2.0
CALSCALE:GREGORIAN
BEGIN:VEVENT
UID:6ed8d64889ea44547ee5f4a884c49eef
DTSTAMP:20260423T105015Z
SUMMARY:hobby-milano-circa-1960 - Date de vente : 24/01/2014
DESCRIPTION:Nom du lots : HOBBY Milano\, circa 1960\n\nTailleur en tweed tu
 rquoise\, veste à petit col\, simple boutonnage à deux boutons\, bas de 
 la veste à effet effiloché\, manches longues\, jupe droite. Griffe blanc
 he\, graphisme noir
DTSTART;VALUE=DATE:20140124
END:VEVENT
END:VCALENDAR
