BEGIN:VCALENDAR
PRODID:-//eluceo/ical//2.0/EN
VERSION:2.0
CALSCALE:GREGORIAN
BEGIN:VEVENT
UID:81c2bf3430a0a03f851e624e83619e0f
DTSTAMP:20260423T104800Z
SUMMARY:comme-des-garcons - Date de vente : 24/01/2014
DESCRIPTION:Nom du lots : COMME DES GARCONS\n\nRobe longue en jersey polyes
 ter bordeaux de forme tee-shirt ornée sur le buste de motifs floraux de c
 ouleur grise peints à la main\, ras du cou\, manches longues\, bas de la 
 jupe à effet de découpes
DTSTART;VALUE=DATE:20140124
END:VEVENT
END:VCALENDAR
