BEGIN:VCALENDAR
PRODID:-//eluceo/ical//2.0/EN
VERSION:2.0
CALSCALE:GREGORIAN
BEGIN:VEVENT
UID:41c329b59ef5445be37c31571fbbd9e0
DTSTAMP:20260423T105154Z
SUMMARY:emanuel-ungaro-couture-n-503-301095 - Date de vente : 24/01/2014
DESCRIPTION:Nom du lots : Emanuel UNGARO Couture n° 503-30.10.95\n\nTaille
 ur en cachemire beige\, col châle cranté\, boutonnage passementerie\, ma
 nches longues\, jupe droite
DTSTART;VALUE=DATE:20140124
END:VEVENT
END:VCALENDAR
