BEGIN:VCALENDAR
PRODID:-//eluceo/ical//2.0/EN
VERSION:2.0
CALSCALE:GREGORIAN
BEGIN:VEVENT
UID:8adfa67e88c5704c4d87c5e89b0f0d86
DTSTAMP:20260423T104933Z
SUMMARY:saint-laurent-rive-gauche - Date de vente : 24/01/2014
DESCRIPTION:Nom du lots : SAINT LAURENT rive gauche\n\nLot composé d’un 
 blazer en gabardine de laine noir\, col châle cranté\, double boutonnage
  à quatre boutons\, une poche poitrine\, deux poches plaquées\, manches 
 longues\; nous y joignons une blouse en soie façonnée à motif de papill
 ons fuchsia\, col droit souligné d’une lavalière\, manches longues
DTSTART;VALUE=DATE:20140124
END:VEVENT
END:VCALENDAR
